BEGIN:VCALENDAR
VERSION:2.0
PRODID:-//Club de Plongée Compiègnois - ECPv6.15.20//NONSGML v1.0//EN
CALSCALE:GREGORIAN
METHOD:PUBLISH
X-WR-CALNAME:Club de Plongée Compiègnois
X-ORIGINAL-URL:https://cpc-compiegne.fr
X-WR-CALDESC:Évènements pour Club de Plongée Compiègnois
REFRESH-INTERVAL;VALUE=DURATION:PT1H
X-Robots-Tag:noindex
X-PUBLISHED-TTL:PT1H
BEGIN:VTIMEZONE
TZID:Europe/Paris
BEGIN:DAYLIGHT
TZOFFSETFROM:+0100
TZOFFSETTO:+0200
TZNAME:CEST
DTSTART:20260329T010000
END:DAYLIGHT
BEGIN:STANDARD
TZOFFSETFROM:+0200
TZOFFSETTO:+0100
TZNAME:CET
DTSTART:20261025T010000
END:STANDARD
BEGIN:DAYLIGHT
TZOFFSETFROM:+0100
TZOFFSETTO:+0200
TZNAME:CEST
DTSTART:20270328T010000
END:DAYLIGHT
BEGIN:STANDARD
TZOFFSETFROM:+0200
TZOFFSETTO:+0100
TZNAME:CET
DTSTART:20271031T010000
END:STANDARD
BEGIN:DAYLIGHT
TZOFFSETFROM:+0100
TZOFFSETTO:+0200
TZNAME:CEST
DTSTART:20280326T010000
END:DAYLIGHT
BEGIN:STANDARD
TZOFFSETFROM:+0200
TZOFFSETTO:+0100
TZNAME:CET
DTSTART:20281029T010000
END:STANDARD
END:VTIMEZONE
BEGIN:VEVENT
DTSTART;TZID=Europe/Paris:20270212T080000
DTEND;TZID=Europe/Paris:20270221T170000
DTSTAMP:20260423T155853
CREATED:20251203T094843Z
LAST-MODIFIED:20251203T110356Z
UID:418253-1802419200-1803229200@cpc-compiegne.fr
SUMMARY:Croisière aux Maldives
DESCRIPTION:🔺Réservé aux membres du CPC 🔺\n\nDu 12 au 21 février 2027\, Oui\, vous ne rêvez pas\, c’est bien pour 2027 !\nCap sur les Maldives\, un véritable paradis pour les plongeurs… et même pour ceux qui ne plongent pas !\nCette destination de rêve est extrêmement convoitée — d’autant plus pendant les vacances scolaires — au point que nous avons dû nous y prendre plus d’un an à l’avance pour obtenir une disponibilité en février 2027.\nBonne nouvelle : nous avons réussi à privatiser le Theia\, un bateau de 20 places\, pour une croisière exceptionnelle incluant au moins 16 plongées\, dont une à deux plongées de nuit. Au programme : rencontres inoubliables avec requins gris\, raies mantas\, requins-baleines\, raies aigles\, sans oublier la myriade de poissons colorés et les coraux magnifiques de l’océan Indien.\n\nAfin de vous permettre d’étaler vos paiements\, nous vous invitons à vous inscrire dès maintenant pour rejoindre cette aventure unique.\n\n👉 Date limite d’inscription : 13 janvier 2027\n📍Sortie réservée aux membres du CPC 📍\n\nPour vous inscrire 👉🏼 Inscription Maldives 2027\n\nDate limite inscription : 13 janvier 2027
URL:https://cpc-compiegne.fr/event/croisiere-aux-maldives/
LOCATION:MALDIVES\, Maldives
CATEGORIES:SORTIE
ATTACH;FMTTYPE=image/jpeg:https://cpc-compiegne.fr/wp-content/uploads/2025/12/theia-liveaboard-with-white-sand-beach_2023-1.jpg
END:VEVENT
END:VCALENDAR