BEGIN:VCALENDAR
VERSION:2.0
PRODID:-//Club de Plongée Compiègnois - ECPv6.15.20//NONSGML v1.0//EN
CALSCALE:GREGORIAN
METHOD:PUBLISH
X-WR-CALNAME:Club de Plongée Compiègnois
X-ORIGINAL-URL:https://cpc-compiegne.fr
X-WR-CALDESC:Évènements pour Club de Plongée Compiègnois
REFRESH-INTERVAL;VALUE=DURATION:PT1H
X-Robots-Tag:noindex
X-PUBLISHED-TTL:PT1H
BEGIN:VTIMEZONE
TZID:Europe/Paris
BEGIN:DAYLIGHT
TZOFFSETFROM:+0100
TZOFFSETTO:+0200
TZNAME:CEST
DTSTART:20240331T010000
END:DAYLIGHT
BEGIN:STANDARD
TZOFFSETFROM:+0200
TZOFFSETTO:+0100
TZNAME:CET
DTSTART:20241027T010000
END:STANDARD
BEGIN:DAYLIGHT
TZOFFSETFROM:+0100
TZOFFSETTO:+0200
TZNAME:CEST
DTSTART:20250330T010000
END:DAYLIGHT
BEGIN:STANDARD
TZOFFSETFROM:+0200
TZOFFSETTO:+0100
TZNAME:CET
DTSTART:20251026T010000
END:STANDARD
BEGIN:DAYLIGHT
TZOFFSETFROM:+0100
TZOFFSETTO:+0200
TZNAME:CEST
DTSTART:20260329T010000
END:DAYLIGHT
BEGIN:STANDARD
TZOFFSETFROM:+0200
TZOFFSETTO:+0100
TZNAME:CET
DTSTART:20261025T010000
END:STANDARD
BEGIN:DAYLIGHT
TZOFFSETFROM:+0100
TZOFFSETTO:+0200
TZNAME:CEST
DTSTART:20270328T010000
END:DAYLIGHT
BEGIN:STANDARD
TZOFFSETFROM:+0200
TZOFFSETTO:+0100
TZNAME:CET
DTSTART:20271031T010000
END:STANDARD
END:VTIMEZONE
BEGIN:VEVENT
DTSTART;VALUE=DATE:20260411
DTEND;VALUE=DATE:20260412
DTSTAMP:20260423T143302
CREATED:20250924T124610Z
LAST-MODIFIED:20250924T124610Z
UID:354863-1775865600-1775951999@cpc-compiegne.fr
SUMMARY:4ème Cours Théorique PB2 + plongée base fédérale Beaumont sur oise
DESCRIPTION:4ème cours de Théorie de la saison 2025-2026\n+ plongée à la base fédérale de beaumont sur oise\nPré-requis :\n– Être certifié PB1\n– Avoir le Niveau 2 minimum\n– Avoir un CACI\n– Avoir acquitté du droit d’inscription à la formation de 22 €.\nLien d’inscription ci-dessous \nhttps://www.helloasso.com/associations/club-de-plongee-compiegnois/evenements/inscription-pb2-plongeur-bio-niveau-2
URL:https://cpc-compiegne.fr/event/4eme-cours-theorique-pb2-plongee-base-federale-beaumont-sur-oise/
LOCATION:base fédérale beaumont sur oise\, 91 Rue de la Cimenterie\, Beaumont sur oise\, 95260\, France
CATEGORIES:BIOLOGIE
ATTACH;FMTTYPE=image/jpeg:https://cpc-compiegne.fr/wp-content/uploads/2025/09/20250827_193933-scaled.jpg
END:VEVENT
BEGIN:VEVENT
DTSTART;TZID=Europe/Paris:20260401T200000
DTEND;TZID=Europe/Paris:20260401T220000
DTSTAMP:20260423T143302
CREATED:20260314T210808Z
LAST-MODIFIED:20260314T210940Z
UID:464555-1775073600-1775080800@cpc-compiegne.fr
SUMMARY:Séance Plongée Nocturne Piscine
DESCRIPTION:Séances ludiques Lundi 30 mars et Mercredi 1er Avril.\nOn éteint les lumières et on découvre les joies de la plongée nocturne en piscine! \nHoraire des séances habituelles.
URL:https://cpc-compiegne.fr/event/seance-plongee-nocturne-piscine-2/
LOCATION:Piscine de Huy – COMPIEGNE\, 15 avenue de HUY\, COMPIEGNE\, 60200\, France
CATEGORIES:ANIMATION
ATTACH;FMTTYPE=image/png:https://cpc-compiegne.fr/wp-content/uploads/2026/03/Affiche-Nocturne-Amicale.png
END:VEVENT
BEGIN:VEVENT
DTSTART;TZID=Europe/Paris:20260330T200000
DTEND;TZID=Europe/Paris:20260330T220000
DTSTAMP:20260423T143302
CREATED:20260314T210808Z
LAST-MODIFIED:20260314T210808Z
UID:464529-1774900800-1774908000@cpc-compiegne.fr
SUMMARY:Séance Plongée Nocturne Piscine
DESCRIPTION:Séances ludiques Lundi 30 mars et Mercredi 1er Avril.\nOn éteint les lumières et on découvre les joies de la plongée nocturne en piscine! \nHoraire des séances habituelles.
URL:https://cpc-compiegne.fr/event/seance-plongee-nocturne-piscine/
LOCATION:Piscine de Huy – COMPIEGNE\, 15 avenue de HUY\, COMPIEGNE\, 60200\, France
CATEGORIES:ANIMATION
ATTACH;FMTTYPE=image/png:https://cpc-compiegne.fr/wp-content/uploads/2026/03/Affiche-Nocturne-Amicale.png
END:VEVENT
BEGIN:VEVENT
DTSTART;VALUE=DATE:20260328
DTEND;VALUE=DATE:20260329
DTSTAMP:20260423T143302
CREATED:20250924T124030Z
LAST-MODIFIED:20250924T124030Z
UID:354824-1774656000-1774742399@cpc-compiegne.fr
SUMMARY:3ème Cours Théorique PB2
DESCRIPTION:3ème cours de Théorie de la saison 2025-2026\nLieu à définir\nPré-requis :\n– Être certifié PB1\n– Avoir le Niveau 2 minimum\n– Avoir un CACI\n– Avoir acquitté du droit d’inscription à la formation de 22 €.\nLien d’inscription ci-dessous \nhttps://www.helloasso.com/associations/club-de-plongee-compiegnois/evenements/inscription-pb2-plongeur-bio-niveau-2
URL:https://cpc-compiegne.fr/event/3eme-cours-theorique-pb2/
CATEGORIES:BIOLOGIE
ATTACH;FMTTYPE=image/jpeg:https://cpc-compiegne.fr/wp-content/uploads/2025/09/20250827_193933-scaled.jpg
END:VEVENT
BEGIN:VEVENT
DTSTART;TZID=Europe/Paris:20260326T190000
DTEND;TZID=Europe/Paris:20260326T210000
DTSTAMP:20260423T143302
CREATED:20251002T120840Z
LAST-MODIFIED:20251002T120840Z
UID:360464-1774551600-1774558800@cpc-compiegne.fr
SUMMARY:Examen Théorique N2 et N3 Rattrapage
DESCRIPTION:Uniquement sur présentation d’un certificat indiquant l’impossibilité de passer l’examen le 19 mars;
URL:https://cpc-compiegne.fr/event/examen-theorique-n2-et-n3-rattrapage/
LOCATION:Piscine de Huy – COMPIEGNE\, 15 avenue de HUY\, COMPIEGNE\, 60200\, France
CATEGORIES:COURS THEORIQUES
ATTACH;FMTTYPE=image/jpeg:https://cpc-compiegne.fr/wp-content/uploads/2025/10/Pastille-livre-e1759405088713.jpg
END:VEVENT
BEGIN:VEVENT
DTSTART;TZID=Europe/Paris:20260319T190000
DTEND;TZID=Europe/Paris:20260319T210000
DTSTAMP:20260423T143302
CREATED:20251002T120705Z
LAST-MODIFIED:20260314T203430Z
UID:360456-1773946800-1773954000@cpc-compiegne.fr
SUMMARY:Examen Théorique N2 et N3
DESCRIPTION:Passage de l’examen écrit N2 et N3\nPrésentation aux examens 19H Début de l’examen 19h15\, sont autorisées les tables fédérales
URL:https://cpc-compiegne.fr/event/examen-theorique-n2-et-n3/
LOCATION:Piscine de Huy – COMPIEGNE\, 15 avenue de HUY\, COMPIEGNE\, 60200\, France
CATEGORIES:COURS THEORIQUES
ATTACH;FMTTYPE=image/jpeg:https://cpc-compiegne.fr/wp-content/uploads/2025/10/Pastille-livre-e1759405088713.jpg
END:VEVENT
BEGIN:VEVENT
DTSTART;TZID=Europe/Paris:20260312T190000
DTEND;TZID=Europe/Paris:20260312T210000
DTSTAMP:20260423T143302
CREATED:20251002T120548Z
LAST-MODIFIED:20251002T120548Z
UID:360439-1773342000-1773349200@cpc-compiegne.fr
SUMMARY:Révision Examen Théorique N2/N3
DESCRIPTION:Cours Théorique en Salle\n🔺Réservé au Membre du CPC🔺 \nRévision des point clé avant l’examen théorique
URL:https://cpc-compiegne.fr/event/revision-examen-theorique-n2-n3/
LOCATION:Piscine de Huy – COMPIEGNE\, 15 avenue de HUY\, COMPIEGNE\, 60200\, France
CATEGORIES:COURS THEORIQUES
ATTACH;FMTTYPE=image/jpeg:https://cpc-compiegne.fr/wp-content/uploads/2025/10/Pastille-livre-e1759405088713.jpg
END:VEVENT
BEGIN:VEVENT
DTSTART;TZID=Europe/Paris:20260307T200000
DTEND;TZID=Europe/Paris:20260308T030000
DTSTAMP:20260423T143302
CREATED:20251005T172156Z
LAST-MODIFIED:20260118T180009Z
UID:444248-1772913600-1772938800@cpc-compiegne.fr
SUMMARY:Soirée des "presque" nouveaux- 07/03/2026
DESCRIPTION:Ce n’était que partie remise\, la soirée des « presque » nouveaux est de retour ! L’occasion unique de mieux connaître le Club et les joyeux lurons qui l’anime…  Et pour les anciens de parrainer un(e) nouveau(elle) adhérent(e)!\nIl va sans dire que la présence d’un maximum de nouveaux est fortement recommandée. N’hésitez pas à venir avec vos conjoints! \nPour vous inscrire\, c’est par ici ➡️https://www.helloasso.com/associations/club-de-plongee-compiegnois/evenements/soiree-des-presque-nouveaux-2026\n💰15€ par personne comprenant\, jeux\, repas et soirée dansante ! Gratuit pour les enfants de moins de 12 ans\n📅Rdv 20h Au local du club. \nThème et dress code de la soirée : « Tropical « \, laisse libre cours à ton imagination 🌴🥥🦩🍋‍🟩🥭 \nOn vous attend nombreux et on vous prépare quelques petites surprises pour vous faire passer une bonne soirée ! \nL’équipe Animations 🥳
URL:https://cpc-compiegne.fr/event/soiree-des-nouveaux-2026/
LOCATION:Piscine de Huy – COMPIEGNE\, 15 avenue de HUY\, COMPIEGNE\, 60200\, France
CATEGORIES:ANIMATION
ATTACH;FMTTYPE=image/png:https://cpc-compiegne.fr/wp-content/uploads/2025/10/Soiree-Nouveaux-scaled.png
END:VEVENT
BEGIN:VEVENT
DTSTART;TZID=Europe/Paris:20260222T113000
DTEND;TZID=Europe/Paris:20260222T123000
DTSTAMP:20260423T143302
CREATED:20251012T210021Z
LAST-MODIFIED:20260202T115151Z
UID:448533-1771759800-1771763400@cpc-compiegne.fr
SUMMARY:Sortie fosse Villeneuve Prépa N2/N3/N4
DESCRIPTION:🔺Réservé aux membre CPC 🔺\nSortie à la fosse UCPA de Villeneuve la Garenne (5\, 10\, et 20m)\nOuverte aux prépas N2 et aux prépas N3. Nous avons 15 places disponibles + 5 encadrants. \nL’organisation de la matinée sera la suivante :\n-Plongée de 11h30 à 12h30. \nÀ la fosse\, le matériel suivant est prêté : bloc\, détendeur\, stab.\nÀ apporter : Maxime vous l’indiquera en fonction des niveaux. Si vous n’êtes pas équipés\, n’hésitez pas à demander à des membres pour qu’on vous en prête. \nInscription et Prix : 18 € à sur Hello-asso : https://www.helloasso.com/associations/club-de-plongee-compiegnois/evenements/fosse-de-villeneuve-la-garenne-le-22-02-26 \nÀ bientôt dans l’eau
URL:https://cpc-compiegne.fr/event/sortie-fosse-villeneuve-prepa-n2-n3-n4-2/
LOCATION:Fosse Villeneuve\, 119 Bd Charles de Gaulle\, Villeneuve-la-Garenne\, Villeneuve-la-Garenne\, 92390\, France
CATEGORIES:SORTIE
ATTACH;FMTTYPE=image/jpeg:https://cpc-compiegne.fr/wp-content/uploads/2025/05/IMG-20250504-WA0025.jpg
END:VEVENT
BEGIN:VEVENT
DTSTART;VALUE=DATE:20260215
DTEND;VALUE=DATE:20260216
DTSTAMP:20260423T143302
CREATED:20250924T122650Z
LAST-MODIFIED:20250924T122650Z
UID:354797-1771113600-1771199999@cpc-compiegne.fr
SUMMARY:2ème Cours Théorique PB2 + Visite club aquariophilie Beauvais
DESCRIPTION:2ème cours de Théorie de la saison 2025-2026\nA beauvais + Visite du club d’aquariophilie de Beauvais\nPré-requis :\n– Être certifié PB1\n– Avoir le Niveau 2 minimum\n– Avoir un CACI\n– Avoir acquitté du droit d’inscription à la formation de 22 €.\nLien d’inscription ci-dessous \nhttps://www.helloasso.com/associations/club-de-plongee-compiegnois/evenements/inscription-pb2-plongeur-bio-niveau-2
URL:https://cpc-compiegne.fr/event/2eme-cours-theorique-pb2-visite-club-aquariophilie-beauvais/
LOCATION:Beauvais\, Beauvais\, 60000\, France
CATEGORIES:BIOLOGIE
ATTACH;FMTTYPE=image/jpeg:https://cpc-compiegne.fr/wp-content/uploads/2025/09/20250827_193933-scaled.jpg
END:VEVENT
BEGIN:VEVENT
DTSTART;TZID=Europe/Paris:20260205T190000
DTEND;TZID=Europe/Paris:20260205T210000
DTSTAMP:20260423T143302
CREATED:20251002T120402Z
LAST-MODIFIED:20251002T120402Z
UID:360431-1770318000-1770325200@cpc-compiegne.fr
SUMMARY:Cours Théorique prépa N2/N3 : Ordinateur (Gestion de plongée)
DESCRIPTION:Cours Théorique en Salle\n🔺Réservé au Membre du CPC🔺 \nIntervenant : Nicolas Lebail
URL:https://cpc-compiegne.fr/event/cours-theorique-prepa-n2-n3-ordinateur-gestion-de-plongee/
LOCATION:Piscine de Huy – COMPIEGNE\, 15 avenue de HUY\, COMPIEGNE\, 60200\, France
CATEGORIES:COURS THEORIQUES
ATTACH;FMTTYPE=image/jpeg:https://cpc-compiegne.fr/wp-content/uploads/2025/10/Pastille-livre-e1759405088713.jpg
END:VEVENT
BEGIN:VEVENT
DTSTART;VALUE=DATE:20260201
DTEND;VALUE=DATE:20260202
DTSTAMP:20260423T143302
CREATED:20250924T122142Z
LAST-MODIFIED:20250924T122142Z
UID:354776-1769904000-1769990399@cpc-compiegne.fr
SUMMARY:Cours Théorique PB2 - Plongeur Bio Niveau 2
DESCRIPTION:1er cours de Théorie de la saison 2025-2026\nA Compiègne.\nPré-requis :\n– Être certifié PB1\n– Avoir le Niveau 2 minimum\n– Avoir un CACI\n– Avoir acquité du droit d’inscription à la formation de 22 €.\nLien d’inscription ci-dessous \nhttps://www.helloasso.com/associations/club-de-plongee-compiegnois/evenements/inscription-pb2-plongeur-bio-niveau-2
URL:https://cpc-compiegne.fr/event/cours-theorique-pb2-plongeur-bio-niveau-2/
LOCATION:Piscine de Huy – COMPIEGNE\, 15 avenue de HUY\, COMPIEGNE\, 60200\, France
CATEGORIES:BIOLOGIE
ATTACH;FMTTYPE=image/jpeg:https://cpc-compiegne.fr/wp-content/uploads/2025/09/20250827_193933-scaled.jpg
END:VEVENT
BEGIN:VEVENT
DTSTART;TZID=Europe/Paris:20260129T190000
DTEND;TZID=Europe/Paris:20260129T210000
DTSTAMP:20260423T143302
CREATED:20251002T120254Z
LAST-MODIFIED:20251002T120254Z
UID:360421-1769713200-1769720400@cpc-compiegne.fr
SUMMARY:Cours Théorique prépa N3 : Organisation de plongée
DESCRIPTION:Cours Théorique en Salle\n🔺Réservé au Membre du CPC🔺 \nIntervenant : Corentin André
URL:https://cpc-compiegne.fr/event/cours-theorique-prepa-n3-organisation-de-plongee/
LOCATION:Piscine de Huy – COMPIEGNE\, 15 avenue de HUY\, COMPIEGNE\, 60200\, France
CATEGORIES:COURS THEORIQUES
ATTACH;FMTTYPE=image/jpeg:https://cpc-compiegne.fr/wp-content/uploads/2025/10/Pastille-livre-e1759405088713.jpg
END:VEVENT
BEGIN:VEVENT
DTSTART;TZID=Europe/Paris:20260122T190000
DTEND;TZID=Europe/Paris:20260122T210000
DTSTAMP:20260423T143302
CREATED:20251002T120132Z
LAST-MODIFIED:20251002T120132Z
UID:360412-1769108400-1769115600@cpc-compiegne.fr
SUMMARY:Cours Théorique prépa N3 : Accidents espace lointain
DESCRIPTION:Cours Théorique en Salle\n🔺Réservé au Membre du CPC🔺 \nIntervenant : Nicolas Lebail
URL:https://cpc-compiegne.fr/event/cours-theorique-prepa-n3-accidents-espace-lointain/
LOCATION:Piscine de Huy – COMPIEGNE\, 15 avenue de HUY\, COMPIEGNE\, 60200\, France
CATEGORIES:COURS THEORIQUES
ATTACH;FMTTYPE=image/jpeg:https://cpc-compiegne.fr/wp-content/uploads/2025/10/Pastille-livre-e1759405088713.jpg
END:VEVENT
BEGIN:VEVENT
DTSTART;TZID=Europe/Paris:20260118T133000
DTEND;TZID=Europe/Paris:20260118T143000
DTSTAMP:20260423T143302
CREATED:20251012T210021Z
LAST-MODIFIED:20251219T175024Z
UID:430241-1768743000-1768746600@cpc-compiegne.fr
SUMMARY:Sortie fosse Villeneuve Prépa N2/N3/N4
DESCRIPTION:🔺Réservé aux membre CPC 🔺\nSortie à la fosse UCPA de Villeneuve la Garenne (5\, 10\, et 20m)\nOuverte aux prépas N2 et aux prépas N3. Nous avons 15 places disponibles + 5 encadrants. \nL’organisation de la matinée sera la suivante :\n-Plongée de 13h30 à 14h30. \nÀ la fosse\, le matériel suivant est prêté : bloc\, détendeur\, stab.\nÀ apporter : Maxime vous l’indiquera en fonction des niveaux. Si vous n’êtes pas équipés\, n’hésitez pas à demander à des membres pour qu’on vous en prête. \nInscription et Prix : 18 € à sur Hello-asso : https://www.helloasso.com/associations/club-de-plongee-compiegnois/evenements/fosse-de-villeneuve-la-garenne-le-18-01-26 \nÀ bientôt dans l’eau
URL:https://cpc-compiegne.fr/event/sortie-fosse-villeneuve-prepa-n2-n3-n4/
LOCATION:Fosse Villeneuve\, 119 Bd Charles de Gaulle\, Villeneuve-la-Garenne\, Villeneuve-la-Garenne\, 92390\, France
CATEGORIES:SORTIE
ATTACH;FMTTYPE=image/jpeg:https://cpc-compiegne.fr/wp-content/uploads/2025/05/IMG-20250504-WA0025.jpg
END:VEVENT
BEGIN:VEVENT
DTSTART;TZID=Europe/Paris:20260116T213000
DTEND;TZID=Europe/Paris:20260116T223000
DTSTAMP:20260423T143302
CREATED:20251202T094127Z
LAST-MODIFIED:20251222T174941Z
UID:431286-1768599000-1768602600@cpc-compiegne.fr
SUMMARY:GALETTE DES ROIS après votre séance
DESCRIPTION:📍Réservé au Membre du CPC📍\nLe club est heureux de vous inviter à déguster la galette des rois et partager un moment de convivialité après votre séance !
URL:https://cpc-compiegne.fr/event/galette-des-rois-apres-votre-seance-3/
LOCATION:Piscine de Huy – COMPIEGNE\, 15 avenue de HUY\, COMPIEGNE\, 60200\, France
CATEGORIES:ANIMATION
ATTACH;FMTTYPE=image/jpeg:https://cpc-compiegne.fr/wp-content/uploads/2025/12/Affiche-GALETTE-carre-V12026-scaled.jpg
END:VEVENT
BEGIN:VEVENT
DTSTART;TZID=Europe/Paris:20260115T190000
DTEND;TZID=Europe/Paris:20260115T210000
DTSTAMP:20260423T143302
CREATED:20251002T115956Z
LAST-MODIFIED:20251002T122759Z
UID:360399-1768503600-1768510800@cpc-compiegne.fr
SUMMARY:Cours Théorique prépa N2/N3 : Tables de plongée 2/2
DESCRIPTION:Cours Théorique en Salle\n🔺Réservé au Membre du CPC🔺 \nIntervenant : Paul Mathieu
URL:https://cpc-compiegne.fr/event/cours-theorique-prepa-n2-n3-tables-de-plongee-2-2/
LOCATION:Piscine de Huy – COMPIEGNE\, 15 avenue de HUY\, COMPIEGNE\, 60200\, France
CATEGORIES:COURS THEORIQUES
ATTACH;FMTTYPE=image/jpeg:https://cpc-compiegne.fr/wp-content/uploads/2025/10/Pastille-livre-e1759405088713.jpg
END:VEVENT
BEGIN:VEVENT
DTSTART;TZID=Europe/Paris:20260114T213000
DTEND;TZID=Europe/Paris:20260114T223000
DTSTAMP:20260423T143302
CREATED:20251202T094127Z
LAST-MODIFIED:20251222T174853Z
UID:431259-1768426200-1768429800@cpc-compiegne.fr
SUMMARY:GALETTE DES ROIS après votre séance
DESCRIPTION:📍Réservé au Membre du CPC📍\nLe club est heureux de vous inviter à déguster la galette des rois et partager un moment de convivialité après votre séance !
URL:https://cpc-compiegne.fr/event/galette-des-rois-apres-votre-seance-2/
LOCATION:Piscine de Huy – COMPIEGNE\, 15 avenue de HUY\, COMPIEGNE\, 60200\, France
CATEGORIES:ANIMATION
ATTACH;FMTTYPE=image/jpeg:https://cpc-compiegne.fr/wp-content/uploads/2025/12/Affiche-GALETTE-carre-V12026-scaled.jpg
END:VEVENT
BEGIN:VEVENT
DTSTART;TZID=Europe/Paris:20260112T213000
DTEND;TZID=Europe/Paris:20260112T223000
DTSTAMP:20260423T143302
CREATED:20251202T094127Z
LAST-MODIFIED:20251222T174653Z
UID:431195-1768253400-1768257000@cpc-compiegne.fr
SUMMARY:GALETTE DES ROIS après votre séance
DESCRIPTION:📍Réservé au Membre du CPC📍\nLe club est heureux de vous inviter à déguster la galette des rois et partager un moment de convivialité après votre séance !
URL:https://cpc-compiegne.fr/event/galette-des-rois-apres-votre-seance/
LOCATION:Piscine de Huy – COMPIEGNE\, 15 avenue de HUY\, COMPIEGNE\, 60200\, France
CATEGORIES:ANIMATION
ATTACH;FMTTYPE=image/jpeg:https://cpc-compiegne.fr/wp-content/uploads/2025/12/Affiche-GALETTE-carre-V12026-scaled.jpg
END:VEVENT
BEGIN:VEVENT
DTSTART;TZID=Europe/Paris:20260108T190000
DTEND;TZID=Europe/Paris:20260108T210000
DTSTAMP:20260423T143302
CREATED:20251002T115838Z
LAST-MODIFIED:20251002T115838Z
UID:360387-1767898800-1767906000@cpc-compiegne.fr
SUMMARY:Cours Théorique prépa N2/N3 : Tables de plongée 1/2
DESCRIPTION:Cours Théorique en Salle\n🔺Réservé au Membre du CPC🔺 \nIntervenant : Paul Mathieu
URL:https://cpc-compiegne.fr/event/cours-theorique-prepa-n2-n3-tables-de-plongee-1-2/
LOCATION:Piscine de Huy – COMPIEGNE\, 15 avenue de HUY\, COMPIEGNE\, 60200\, France
CATEGORIES:COURS THEORIQUES
ATTACH;FMTTYPE=image/jpeg:https://cpc-compiegne.fr/wp-content/uploads/2025/10/Pastille-livre-e1759405088713.jpg
END:VEVENT
BEGIN:VEVENT
DTSTART;VALUE=DATE:20251220
DTEND;VALUE=DATE:20251221
DTSTAMP:20260423T143302
CREATED:20251012T210021Z
LAST-MODIFIED:20251126T175023Z
UID:411911-1766188800-1766275199@cpc-compiegne.fr
SUMMARY:Sortie fosse NEMO 33 Belgique
DESCRIPTION:🔺Réservé aux membre CPC 🔺 \nBonjour à toutes et à tous\,\nNous organisons une sortie à NEMO 33 (Bruxelles)\nle Samedi 20 Décembre 2025 \nPour vous inscrire : https://www.helloasso.com/associations/club-de-plongee-compiegnois/evenements/fosse-nemo33-du-20-12-2025-2\n.\nAu programme 2 plongées à 10h et à 14h\, et déjeuner entre les deux\, le tout pour 73 €.\nSi ça vous intéresse et si vous êtes dispo\, demandez la fiche à Paul : mathieu.pa@hotmail.fr \nN’hésitez pas à nous contacter en cas de problème ou de difficulté avec les liens.\nA bientôt dans l’eau.
URL:https://cpc-compiegne.fr/event/sortie-fosse-nemo-33-belgique/
LOCATION:nemo\, 333 rue de stalle\, uccle\, 1180\, Belgium
CATEGORIES:SORTIE
ATTACH;FMTTYPE=image/png:https://cpc-compiegne.fr/wp-content/uploads/2025/10/Illustration.png
END:VEVENT
BEGIN:VEVENT
DTSTART;TZID=Europe/Paris:20251219T213000
DTEND;TZID=Europe/Paris:20251219T223000
DTSTAMP:20260423T143302
CREATED:20251202T094127Z
LAST-MODIFIED:20251202T094319Z
UID:416718-1766179800-1766183400@cpc-compiegne.fr
SUMMARY:Un petit VIN CHAUD après votre séance
DESCRIPTION:📍Réservé au Membre du CPC📍\nLe club est heureux de vous inviter à déguster un vin chaud et partager un moment de convivialité après votre séance !
URL:https://cpc-compiegne.fr/event/un-petit-vin-chaud-apres-votre-seance-3/
LOCATION:Piscine de Huy – COMPIEGNE\, 15 avenue de HUY\, COMPIEGNE\, 60200\, France
CATEGORIES:ANIMATION
ATTACH;FMTTYPE=image/jpeg:https://cpc-compiegne.fr/wp-content/uploads/2025/12/Affiche-Vin-chaud-2025-carre-V13-scaled.jpg
END:VEVENT
BEGIN:VEVENT
DTSTART;TZID=Europe/Paris:20251217T213000
DTEND;TZID=Europe/Paris:20251217T223000
DTSTAMP:20260423T143302
CREATED:20251202T094127Z
LAST-MODIFIED:20251202T094234Z
UID:416708-1766007000-1766010600@cpc-compiegne.fr
SUMMARY:Un petit VIN CHAUD après votre séance
DESCRIPTION:📍Réservé au Membre du CPC📍\nLe club est heureux de vous inviter à déguster un vin chaud et partager un moment de convivialité après votre séance !
URL:https://cpc-compiegne.fr/event/un-petit-vin-chaud-apres-votre-seance-2/
LOCATION:Piscine de Huy – COMPIEGNE\, 15 avenue de HUY\, COMPIEGNE\, 60200\, France
CATEGORIES:ANIMATION
ATTACH;FMTTYPE=image/jpeg:https://cpc-compiegne.fr/wp-content/uploads/2025/12/Affiche-Vin-chaud-2025-carre-V13-scaled.jpg
END:VEVENT
BEGIN:VEVENT
DTSTART;TZID=Europe/Paris:20251215T213000
DTEND;TZID=Europe/Paris:20251215T223000
DTSTAMP:20260423T143302
CREATED:20251202T094127Z
LAST-MODIFIED:20251202T094127Z
UID:416652-1765834200-1765837800@cpc-compiegne.fr
SUMMARY:Un petit VIN CHAUD après votre séance
DESCRIPTION:📍Réservé au Membre du CPC📍\nLe club est heureux de vous inviter à déguster un vin chaud et partager un moment de convivialité après votre séance !
URL:https://cpc-compiegne.fr/event/un-petit-vin-chaud-apres-votre-seance/
LOCATION:Piscine de Huy – COMPIEGNE\, 15 avenue de HUY\, COMPIEGNE\, 60200\, France
ATTACH;FMTTYPE=image/jpeg:https://cpc-compiegne.fr/wp-content/uploads/2025/12/Affiche-Vin-chaud-2025-carre-V13-scaled.jpg
END:VEVENT
BEGIN:VEVENT
DTSTART;TZID=Europe/Paris:20251211T190000
DTEND;TZID=Europe/Paris:20251211T210000
DTSTAMP:20260423T143302
CREATED:20251002T114440Z
LAST-MODIFIED:20251002T121118Z
UID:360297-1765479600-1765486800@cpc-compiegne.fr
SUMMARY:Cours Théorique Prépa N1/N2/N3 : Biologie marine 2/2
DESCRIPTION:Cours Théorique en Salle\nPour les Groupes N1 / N2 / N3\n🔺Réservé au Membre du CPC🔺 \nCours 2/2
URL:https://cpc-compiegne.fr/event/cours-theorique-n1-biologie-marine-2-2/
LOCATION:Piscine de Huy – COMPIEGNE\, 15 avenue de HUY\, COMPIEGNE\, 60200\, France
CATEGORIES:COURS THEORIQUES
ATTACH;FMTTYPE=image/jpeg:https://cpc-compiegne.fr/wp-content/uploads/2025/10/Pastille-livre-e1759405088713.jpg
END:VEVENT
BEGIN:VEVENT
DTSTART;TZID=Europe/Paris:20251204T190000
DTEND;TZID=Europe/Paris:20251204T210000
DTSTAMP:20260423T143302
CREATED:20251002T114310Z
LAST-MODIFIED:20251002T121011Z
UID:360285-1764874800-1764882000@cpc-compiegne.fr
SUMMARY:Cours Théorique Prépa N1/N2/N3 : Biologie Marine 1/2
DESCRIPTION:Cours Théorique en Salle\nPour les Groupes Niveau 1 du Lundi et du mercredi\n🔺Réservé au Membre du CPC🔺
URL:https://cpc-compiegne.fr/event/cours-theorique-n1-biologie-marine/
LOCATION:Piscine de Huy – COMPIEGNE\, 15 avenue de HUY\, COMPIEGNE\, 60200\, France
CATEGORIES:COURS THEORIQUES
ATTACH;FMTTYPE=image/jpeg:https://cpc-compiegne.fr/wp-content/uploads/2025/10/Pastille-livre-e1759405088713.jpg
END:VEVENT
BEGIN:VEVENT
DTSTART;TZID=Europe/Paris:20251127T190000
DTEND;TZID=Europe/Paris:20251127T210000
DTSTAMP:20260423T143302
CREATED:20251002T115635Z
LAST-MODIFIED:20251002T115635Z
UID:360376-1764270000-1764277200@cpc-compiegne.fr
SUMMARY:Cours Théorique prépa N2/N3 : Accidents 2/2
DESCRIPTION:Cours Théorique en Salle\n🔺Réservé au Membre du CPC🔺 \nIntervenant : Cyril Royere
URL:https://cpc-compiegne.fr/event/cours-theorique-prepa-n2-n3-accidents-2-2/
LOCATION:Piscine de Huy – COMPIEGNE\, 15 avenue de HUY\, COMPIEGNE\, 60200\, France
CATEGORIES:COURS THEORIQUES
ATTACH;FMTTYPE=image/jpeg:https://cpc-compiegne.fr/wp-content/uploads/2025/10/Pastille-livre-e1759405088713.jpg
END:VEVENT
BEGIN:VEVENT
DTSTART;TZID=Europe/Paris:20251122T200000
DTEND;TZID=Europe/Paris:20251123T030000
DTSTAMP:20260423T143302
CREATED:20251005T172156Z
LAST-MODIFIED:20251005T172156Z
UID:363236-1763841600-1763866800@cpc-compiegne.fr
SUMMARY:Soirée des nouveaux- 22/11/2025
DESCRIPTION:Cette soirée est l’occasion unique pour les nouveaux de mieux connaître le Club et les joyeux lurons qui l’animent… Et pour les anciens de parrainer un(e) nouveau(elle) adhérent(e)!\nIl va sans dire que la présence d’un maximum de nouveaux est fortement recommandée. N’hésitez pas à venir avec vos conjoints! \nPour vous inscrire\, c’est par ici ➡️https://www.helloasso.com/associations/club-de-plongee-compiegnois/evenements/soiree-des-nouveaux-2025\n💰15€ par personne comprenant\, jeux\, repas et soirée dansante !\n📅Rdv 20h Au local du club. \nThème et dress code de la soirée : « Tropical « \, laisse libre cours à ton imagination 🌴🥥🦩🍋‍🟩🥭 \nOn vous attend nombreux et on vous prépare quelques petites surprises pour vous faire passer une bonne soirée ! \nL’équipe Animations 🥳
URL:https://cpc-compiegne.fr/event/soiree-des-nouveaux-22-11-2025/
LOCATION:Piscine de Huy – COMPIEGNE\, 15 avenue de HUY\, COMPIEGNE\, 60200\, France
CATEGORIES:ANIMATION
ATTACH;FMTTYPE=image/png:https://cpc-compiegne.fr/wp-content/uploads/2025/10/Soiree-Nouveaux-1-scaled.png
END:VEVENT
BEGIN:VEVENT
DTSTART;TZID=Europe/Paris:20251120T190000
DTEND;TZID=Europe/Paris:20251120T210000
DTSTAMP:20260423T143302
CREATED:20251002T115525Z
LAST-MODIFIED:20251002T115525Z
UID:360366-1763665200-1763672400@cpc-compiegne.fr
SUMMARY:Cours Théorique prépa N2/N3 : Accidents 1/2
DESCRIPTION:Cours Théorique en Salle\n🔺Réservé au Membre du CPC🔺 \nIntervenant Cyril Royere
URL:https://cpc-compiegne.fr/event/cours-theorique-prepa-n2-n3-accidents-1-2/
LOCATION:Piscine de Huy – COMPIEGNE\, 15 avenue de HUY\, COMPIEGNE\, 60200\, France
CATEGORIES:COURS THEORIQUES
ATTACH;FMTTYPE=image/jpeg:https://cpc-compiegne.fr/wp-content/uploads/2025/10/Pastille-livre-e1759405088713.jpg
END:VEVENT
BEGIN:VEVENT
DTSTART;TZID=Europe/Paris:20251113T190000
DTEND;TZID=Europe/Paris:20251113T210000
DTSTAMP:20260423T143302
CREATED:20251002T115423Z
LAST-MODIFIED:20251002T115423Z
UID:360355-1763060400-1763067600@cpc-compiegne.fr
SUMMARY:Cours Théorique prépa N2 : Matériel
DESCRIPTION:Cours Théorique en Salle\n🔺Réservé au Membre du CPC🔺 \nIntervenant Corentin André
URL:https://cpc-compiegne.fr/event/cours-theorique-prepa-n2-materiel/
LOCATION:Piscine de Huy – COMPIEGNE\, 15 avenue de HUY\, COMPIEGNE\, 60200\, France
CATEGORIES:COURS THEORIQUES
ATTACH;FMTTYPE=image/jpeg:https://cpc-compiegne.fr/wp-content/uploads/2025/10/Pastille-livre-e1759405088713.jpg
END:VEVENT
END:VCALENDAR